BEGIN:VCALENDAR
VERSION:2.0
PRODID:-//Gateway Pet Guardians - ECPv6.15.20//NONSGML v1.0//EN
CALSCALE:GREGORIAN
METHOD:PUBLISH
X-WR-CALNAME:Gateway Pet Guardians
X-ORIGINAL-URL:https://gatewaypets.org
X-WR-CALDESC:Events for Gateway Pet Guardians
REFRESH-INTERVAL;VALUE=DURATION:PT1H
X-Robots-Tag:noindex
X-PUBLISHED-TTL:PT1H
BEGIN:VTIMEZONE
TZID:UTC
BEGIN:STANDARD
TZOFFSETFROM:+0000
TZOFFSETTO:+0000
TZNAME:UTC
DTSTART:20250101T000000
END:STANDARD
END:VTIMEZONE
BEGIN:VEVENT
DTSTART;TZID=UTC:20260516T120000
DTEND;TZID=UTC:20260516T220000
DTSTAMP:20260423T171316
CREATED:20260130T174934Z
LAST-MODIFIED:20260130T174934Z
UID:15242-1778932800-1778968800@gatewaypets.org
SUMMARY:Enigma Tattoo Event
DESCRIPTION:Get inked or pierced for a good cause helping homeless pets! \nEnigma Tattoo is excited to host a flash tattoo & piercing event! \nThis event is open to the public and proceeds from the day will be going back to GPG. It lasts the entire time they are open- noon to 10 p.m.
URL:https://gatewaypets.org/event/enigma-tattoo-event/
LOCATION:Enigma Tattoo\, 6635 Delmar Blvd\, University City\, MO\, 63130\, United States
ATTACH;FMTTYPE=image/jpeg:https://gatewaypets.org/wp-content/uploads/2026/01/Gateway-Pet-Guardian-Flash-Tattoo-Event-header-scaled.jpg
END:VEVENT
END:VCALENDAR