BEGIN:VCALENDAR
VERSION:2.0
PRODID:-//Gateway Pet Guardians - ECPv6.15.20//NONSGML v1.0//EN
CALSCALE:GREGORIAN
METHOD:PUBLISH
X-ORIGINAL-URL:https://gatewaypets.org
X-WR-CALDESC:Events for Gateway Pet Guardians
REFRESH-INTERVAL;VALUE=DURATION:PT1H
X-Robots-Tag:noindex
X-PUBLISHED-TTL:PT1H
BEGIN:VTIMEZONE
TZID:UTC
BEGIN:STANDARD
TZOFFSETFROM:+0000
TZOFFSETTO:+0000
TZNAME:UTC
DTSTART:20220101T000000
END:STANDARD
END:VTIMEZONE
BEGIN:VEVENT
DTSTART;TZID=UTC:20231104T090000
DTEND;TZID=UTC:20231104T110000
DTSTAMP:20260421T150944
CREATED:20230407T141301Z
LAST-MODIFIED:20230525T151313Z
UID:12945-1699088400-1699095600@gatewaypets.org
SUMMARY:November 2023 Drive-Thru Clinic
DESCRIPTION:From March-November\, we offer low-cost drive-thru vaccine services on the first Saturday of the month at our Pet Resource Center (with the exception of July and September due to holiday). All drive-thru clinics are open to everyone – first come\, first served and no appointment required. We are only able to see 100 pets total per clinic. Cash\, credit or check accepted and must arrive in vehicle to participate. \nServices and Pricing:\n– Distemper/Parvo | Dog: $20\n– Distemper | Cat: $20\n– Rabies: $20\n– Microchip: $15\n– Flea Treatment: $10 per dose \nAs these events are extremely busy with a limited window of time\, we can only provide same day proof/records for pet families needing rabies certification. For all other treatments\, a full summary can be provided by request 7-10 days after the event. We just ask for your patience as all data from these events is manually entered by a small team of volunteers and staff. When requesting records\, please contact (618) 687-8007\, ext. 1 and leave a message. We will get back to you within 24-48 hours. \nPhotographs and/or video will be taken at all events. More information regarding our event policy is available here.
URL:https://gatewaypets.org/event/november-2023-drive-thru-clinic/
LOCATION:Pet Resource Center\, 725 N 15th St\, East St. Louis\, IL\, 62205\, United States
ATTACH;FMTTYPE=image/png:https://gatewaypets.org/wp-content/uploads/2023/05/20.png
END:VEVENT
BEGIN:VEVENT
DTSTART;TZID=UTC:20231111T181500
DTEND;TZID=UTC:20231111T220000
DTSTAMP:20260421T150944
CREATED:20230828T223805Z
LAST-MODIFIED:20231018T194325Z
UID:13483-1699726500-1699740000@gatewaypets.org
SUMMARY:Bark for Bucks Bingo
DESCRIPTION:For the first time since the pandemic\, Gateway Pet Guardians (GPG) is bringing Bingo back! Join us for the newly named Bark for Bucks Bingo on November 11\, 2023. Proceeds from this event will support the ongoing efforts of GPG to keep pets with the people who love them and find loving homes for homeless pets.\nDoors open at 6:15 PM and the games start at 7:00 PM. Bingo event includes a silent auction\, raffles\, and cash bar. You can bring your own snacks!\nIndividuals tickets are $25. VIP tables are $225.\nBingo is taking place at:\nElks Lodge\n9480 Old Lincoln Trail\nFairview Heights\, IL 62208 \n\n\nTHANK YOU! to our sponsors: Bill & Teresa Hutton\, Whitney in the City\, Conner Roofing\, Auffenberg Dealer Group\, Kaskaskia Engineering Group\, LLC\, HSGW Insurance Services\, Morrison Plumbing Heating\, Air\, and Electrical.\n\nSponsorships are still available!\n\nSee the Sponsorship Packet Benefits and Details
URL:https://gatewaypets.org/event/bark-for-bucks-bingo/
LOCATION:IL
ATTACH;FMTTYPE=image/jpeg:https://gatewaypets.org/wp-content/uploads/2023/08/Bark-for-Bucks-2.jpg
END:VEVENT
END:VCALENDAR