BEGIN:VCALENDAR
VERSION:2.0
PRODID:-//Gateway Pet Guardians - ECPv6.15.20//NONSGML v1.0//EN
CALSCALE:GREGORIAN
METHOD:PUBLISH
X-ORIGINAL-URL:https://gatewaypets.org
X-WR-CALDESC:Events for Gateway Pet Guardians
REFRESH-INTERVAL;VALUE=DURATION:PT1H
X-Robots-Tag:noindex
X-PUBLISHED-TTL:PT1H
BEGIN:VTIMEZONE
TZID:UTC
BEGIN:STANDARD
TZOFFSETFROM:+0000
TZOFFSETTO:+0000
TZNAME:UTC
DTSTART:20250101T000000
END:STANDARD
END:VTIMEZONE
BEGIN:VEVENT
DTSTART;TZID=UTC:20260502T090000
DTEND;TZID=UTC:20260502T110000
DTSTAMP:20260423T155251
CREATED:20260112T201932Z
LAST-MODIFIED:20260112T201932Z
UID:15146-1777712400-1777719600@gatewaypets.org
SUMMARY:Drive-thru Vaccine Clinic
DESCRIPTION:From March-November\, we offer low-cost drive-thru vaccine services on the first Saturday of the month at our Pet Resource Center (with the exception of July and September due to holiday). All drive-thru clinics are open to everyone – first come\, first served and no appointment required. We are only able to see 100 pets total per clinic. Cash\, credit or check accepted and must arrive in vehicle to participate. \nServices and Pricing:\n– Distemper/Parvo | Dog: $30\n– Distemper | Cat: $30\n– Rabies: $30\n– Microchip: $15\n– Flea Treatment: $10 per dose \nAs these events are extremely busy with a limited window of time\, we can only provide same day proof/records for pet families needing rabies certification. For all other treatments\, a full summary can be provided by request 7-10 days after the event. We just ask for your patience as all data from these events is manually entered by a small team of volunteers and staff. When requesting records\, please contact (618) 687-8007\, ext. 1 and leave a message. We will get back to you within 24-48 hours. \nPhotographs and/or video will be taken at all events. More information regarding our event policy is available here.
URL:https://gatewaypets.org/event/drive-thru-vaccine-clinic-10/
LOCATION:IL
ATTACH;FMTTYPE=image/jpeg:https://gatewaypets.org/wp-content/uploads/2026/01/drive-thru-photo-3.jpg
END:VEVENT
BEGIN:VEVENT
DTSTART;VALUE=DATE:20260507
DTEND;VALUE=DATE:20260508
DTSTAMP:20260423T155251
CREATED:20260130T173947Z
LAST-MODIFIED:20260130T173947Z
UID:15238-1778112000-1778198399@gatewaypets.org
SUMMARY:Give STL Day
DESCRIPTION:On May 7\, 2026\, donate to Gateway Pets and Support Your Favorite nonprofits in St Louis\n\n\n\n\n\n\n\n\nThe St. Louis Community Foundation’s Give STL Day celebrates and supports the nonprofits that make our region a wonderful place to call home.\nOver the past decade\, Give STL Day has raised more than $34 million for over one thousand local nonprofits.\nNow\, we’re getting ready for the next Give STL Day on May 7\, 2026.\nMARK YOUR CALENDARS – Early giving begins April 22nd!\nOn May7\, Dine out at Syberg’s or Helen Fitzgeralds and Gateway Pet Guardians received 10% of the proceeds to contribute to our GiveSTL Day campaign!
URL:https://gatewaypets.org/event/give-stl-day/
LOCATION:Pet Resource Center\, 725 N 15th St\, East St. Louis\, IL\, 62205\, United States
ATTACH;FMTTYPE=image/jpeg:https://gatewaypets.org/wp-content/uploads/2026/01/newsletter-banner-2-copy.jpg
END:VEVENT
BEGIN:VEVENT
DTSTART;TZID=UTC:20260516T120000
DTEND;TZID=UTC:20260516T220000
DTSTAMP:20260423T155251
CREATED:20260130T174934Z
LAST-MODIFIED:20260130T174934Z
UID:15242-1778932800-1778968800@gatewaypets.org
SUMMARY:Enigma Tattoo Event
DESCRIPTION:Get inked or pierced for a good cause helping homeless pets! \nEnigma Tattoo is excited to host a flash tattoo & piercing event! \nThis event is open to the public and proceeds from the day will be going back to GPG. It lasts the entire time they are open- noon to 10 p.m.
URL:https://gatewaypets.org/event/enigma-tattoo-event/
LOCATION:Enigma Tattoo\, 6635 Delmar Blvd\, University City\, MO\, 63130\, United States
ATTACH;FMTTYPE=image/jpeg:https://gatewaypets.org/wp-content/uploads/2026/01/Gateway-Pet-Guardian-Flash-Tattoo-Event-header-scaled.jpg
END:VEVENT
END:VCALENDAR